BEGIN:VCALENDAR
VERSION:2.0
PRODID:-//Cosmetic Tattoo Academy bySTELLA - ECPv6.0.8//NONSGML v1.0//EN
CALSCALE:GREGORIAN
METHOD:PUBLISH
X-WR-CALNAME:Cosmetic Tattoo Academy bySTELLA
X-ORIGINAL-URL:https://www.bystellaacademy.com.au
X-WR-CALDESC:Events for Cosmetic Tattoo Academy bySTELLA
REFRESH-INTERVAL;VALUE=DURATION:PT1H
X-Robots-Tag:noindex
X-PUBLISHED-TTL:PT1H
BEGIN:VTIMEZONE
TZID:Australia/Melbourne
BEGIN:STANDARD
TZOFFSETFROM:+1100
TZOFFSETTO:+1000
TZNAME:AEST
DTSTART:20210403T160000
END:STANDARD
BEGIN:DAYLIGHT
TZOFFSETFROM:+1000
TZOFFSETTO:+1100
TZNAME:AEDT
DTSTART:20211002T160000
END:DAYLIGHT
END:VTIMEZONE
BEGIN:VEVENT
DTSTART;VALUE=DATE:20210322
DTEND;VALUE=DATE:20210324
DTSTAMP:20260422T003445
CREATED:20210205T000430Z
LAST-MODIFIED:20230308T041030Z
UID:7767-1616371200-1616543999@www.bystellaacademy.com.au
SUMMARY:2 DAY POWDER EFFECT DAY WORKSHOP SYDNEY 22/3-23/3
DESCRIPTION:2 day Powder Effect (3 TECHNIQUES) Workshop\n\nMonday 22/03/21 & Tuesday 23/03/21 – 9:00am – 5:00pm\nFull Cost: $4\,500 \nOnline Cost: $3\,500 \n\n\n\nAbout the workshop :\n\n\n\n\n\n\nJoin our masterclass and learn our 3 powder effect techniques with a digital tattoo machine. \nOur trainer Stella Shenouda is internationally trained and shares with you her mastery and skillset all the way from New York and LA . Stella believes one should never stop learning and continues to adjust content to enable her students to learn the most current techniques on the market. \nWe believe that everyone can master this skillset with the right training\, dedication and persistence. This masterclass will comprise of 2 day learning in a professional workspace. \nA face to face assessment  assessment day will be $500 extra for any online learners who would prefer to sit with your trainer for a private assessment or free if submitted with guidance online .Read More. \n\n\n\n\n  \n\n\nReserve your place early\, to avoid disappointment – our workshops book out fast!\n\nReady to book?\n\n\nTo secure your seat\, please purchase this ticket which is a non-refundable $700 deposit. \nOnce purchased we will be in touch to finalise remaining payment via EFT\, Bank transfer or payment plan. \n\nAny no shows will forfeit their ticket. \n\n\nLooking forward to meeting you then!
URL:https://www.bystellaacademy.com.au/event-calendar/2-day-powder-effect-day-workshop-sydney-22-3-23-3/
LOCATION:Sydney\, 110A Nicholson Pde Cronulla\, Cronulla\, NSW\, 2230\, Australia
ATTACH;FMTTYPE=image/png:https://www.bystellaacademy.com.au/wp-content/uploads/2020/05/2.png
END:VEVENT
BEGIN:VEVENT
DTSTART;VALUE=DATE:20210316
DTEND;VALUE=DATE:20210317
DTSTAMP:20260422T003445
CREATED:20210205T010629Z
LAST-MODIFIED:20210205T010629Z
UID:7799-1615852800-1615939199@www.bystellaacademy.com.au
SUMMARY:HYBRID 3 DAY WORKSHOP: SYDNEY 16/3 & 22/3-23/3
DESCRIPTION:Hybrid Workshop\n\nTuesday 16/03/21\, Monday 22/03/21 and Tuesday 23/03/21 – 9:00am – 5:00pm\nFull Cost: $4\,895 plus GST \n  \n\n\n\nAbout the workshop :\n\n\n\nThis masterclass covers our Hybrid cosmetic tattoo procedure . It is a combination effect demonstrating 2 techniques: manual micro-blading  and shading. It’s becoming the most sought after treatment as it offers a more natural effect to powdering but is much fuller  overall. This style is suitable to all skin types. Our workshop price covers a 3 day workshop and 2 kits (microblading and powder kits) and also access to both online modules for 6 weeks).\n\n\nThe assessment day will be $500 extra if you’d like to sit with your trainer for a private assessment or free if submitted online.\n\n\n\n\n\nCourse Prerequisite:\nCompletion of the 2-day Ombre course \n\n\n\nReserve your place early\, to avoid disappointment – our workshops book out fast!\n\nReady to book?\n\n\nTo secure your seat\, please purchase this ticket which is a non-refundable $500 deposit. \nOnce purchased we will be in touch to finalise remaining payment via EFT\, Bank transfer or payment plan. \n\nAny no shows will forfeit their ticket. \n\n\nLooking forward to meeting you then!
URL:https://www.bystellaacademy.com.au/event-calendar/hybrid-3-day-workshop-sydney-16-3-22-3-23-3/
LOCATION:Sydney\, 110A Nicholson Pde Cronulla\, Cronulla\, NSW\, 2230\, Australia
END:VEVENT
BEGIN:VEVENT
DTSTART;VALUE=DATE:20210315
DTEND;VALUE=DATE:20210317
DTSTAMP:20260422T003445
CREATED:20210204T235446Z
LAST-MODIFIED:20210204T235456Z
UID:7758-1615766400-1615939199@www.bystellaacademy.com.au
SUMMARY:2 DAY MICRO-BLADING WORKSHOP SYDNEY 15/03-16/03
DESCRIPTION:2 day Micro-Blading Workshop\n\nMonday 15/03/21 & Tuesday 16/03/21 – 9:00am – 5:00pm\nFull Cost:  $3500 + GST \nOnline Cost: $2750 + GST \n\n\n\nAbout the workshop :\n\n\n\n\n\n\n\n\nJoin our masterclass and learn our natural microblading techniques. This training adapts for all levels from beginner to experienced\, covering basic through to advanced techniques. \nOur trainer Stella Shenouda is a certified trainer who is internationally trained and works with many high profile clients in the television \, media & medical industry. \nDuring this 2 day intensive workshop she shares with you her mastery and skillset she has obtained internationally. We have created our workshops to suit the Australian market. Our approach is a natural undetected result that suits each individual face shape and bone structure. \nWe believe that everyone can master this skillset with the right training\, dedication and persistence. This masterclass will comprise of 2 consecutive days learning in a professional workspace. \n\n\n\n2 Days intensive learning with Brow Expert Stella Shenouda\nA digital tattoo machine and kit worth $1500\nA comprehensive theory book\,\nA Certificate of Completion at the end of the workshop\nOne month’s support via online correspondence\n\n\n\n To receive your certificate and to be able to work on clients\, you need to complete 6 core levels in a month while practicing on skin simulation mats. \nUpon the successful completion of the 6 modules\, you will be required to demonstrate competency in carrying out the procedure on 2 live models.  \nRead More. \n\n\n  \n\n\nReserve your place early\, to avoid disappointment – our workshops book out fast!\n\nReady to book?\n\n\nTo secure your seat\, please purchase this ticket which is a non-refundable $500 deposit. \nOnce purchased we will be in touch to finalise remaining payment via EFT\, Bank transfer or payment plan.
URL:https://www.bystellaacademy.com.au/event-calendar/2-day-micro-blading-workshop-sydney-15-03-16-03/
LOCATION:Sydney\, 110A Nicholson Pde Cronulla\, Cronulla\, NSW\, 2230\, Australia
ATTACH;FMTTYPE=image/png:https://www.bystellaacademy.com.au/wp-content/uploads/2020/05/5.png
END:VEVENT
BEGIN:VEVENT
DTSTART;VALUE=DATE:20210227
DTEND;VALUE=DATE:20210301
DTSTAMP:20260422T003445
CREATED:20201202T041345Z
LAST-MODIFIED:20210204T232927Z
UID:7617-1614384000-1614556799@www.bystellaacademy.com.au
SUMMARY:2 DAY POWDER EFFECT DAY WORKSHOP MELBOURNE 27/2-28/2
DESCRIPTION:2 day Powder Effect Workshop\n\nSaturday 27/02/21 & Sunday 28/02/21 – 9:00am – 5:00pm\nFull Cost: $3\,500 plus GST \nOnline Cost: $2\,750 plus GST \n\n\n\nAbout the workshop :\n\n\n\n\n\n\nJoin our masterclass and learn our 3 powder effect techniques with a digital tattoo machine. \nOur trainer Stella Shenouda is internationally trained and shares with you her mastery and skillset all the way from New York and LA . Stella believes one should never stop learning and continues to adjust content to enable her students to learn the most current techniques on the market. \nWe believe that everyone can master this skillset with the right training\, dedication and persistence. This masterclass will comprise of 2 day learning in a professional workspace. \nThe assessment day will be $500 extra if you’d like to sit with your trainer for a private assessment or free if submitted online. \n\n\nRead More. \n\n\n  \n\n\nReserve your place early\, to avoid disappointment – our workshops book out fast!\n\nReady to book?\n\n\nTo secure your seat\, please purchase this ticket which is a non-refundable $500 deposit. \nOnce purchased we will be in touch to finalise remaining payment via EFT\, Bank transfer or payment plan. \n\nAny no shows will forfeit their ticket. \n\n\nLooking forward to meeting you then!
URL:https://www.bystellaacademy.com.au/event-calendar/2-day-powder-effect-day-workshop-melbourne-27-2-28-2/
LOCATION:Melbourne
ATTACH;FMTTYPE=image/png:https://www.bystellaacademy.com.au/wp-content/uploads/2020/05/2.png
END:VEVENT
BEGIN:VEVENT
DTSTART;VALUE=DATE:20210226
DTEND;VALUE=DATE:20210301
DTSTAMP:20260422T003445
CREATED:20201202T044242Z
LAST-MODIFIED:20210204T234458Z
UID:7623-1614297600-1614556799@www.bystellaacademy.com.au
SUMMARY:HYBRID 3 DAY WORKSHOP: MELBOURNE 26/2-28/2
DESCRIPTION:Hybrid Workshop\n\nFriday 26/02/21\, Saturday 27/02/21 and Sunday 28/02/21 – 9:00am – 5:00pm\nFull Cost: $4\,895 plus GST \n  \n\n\n\nAbout the workshop :\n\n\n\nThis masterclass covers our Hybrid cosmetic tattoo procedure . It is a combination effect demonstrating 2 techniques: manual micro-blading  and shading. It’s becoming the most sought after treatment as it offers a more natural effect to powdering but is much fuller  overall. This style is suitable to all skin types. Our workshop price covers a 3 day workshop and 2 kits (microblading and powder kits) and also access to both online modules for 6 weeks).\n\n\nThe assessment day will be $500 extra if you’d like to sit with your trainer for a private assessment or free if submitted online.\n\n\n\n\n\nCourse Prerequisite:\nCompletion of the 2-day Ombre course \n\n\n\nReserve your place early\, to avoid disappointment – our workshops book out fast!\n\nReady to book?\n\n\nTo secure your seat\, please purchase this ticket which is a non-refundable $500 deposit. \nOnce purchased we will be in touch to finalise remaining payment via EFT\, Bank transfer or payment plan. \n\nAny no shows will forfeit their ticket. \n\n\nLooking forward to meeting you then!
URL:https://www.bystellaacademy.com.au/event-calendar/hybrid-3-day-workshop-melbourne-26-2-28-2/
LOCATION:Melbourne
END:VEVENT
BEGIN:VEVENT
DTSTART;VALUE=DATE:20210225
DTEND;VALUE=DATE:20210227
DTSTAMP:20260422T003445
CREATED:20210204T232318Z
LAST-MODIFIED:20210204T232318Z
UID:7737-1614211200-1614383999@www.bystellaacademy.com.au
SUMMARY:2 DAY MICRO-BLADING WORKSHOP MELBOURNE 29/4-30/4
DESCRIPTION:2 day Micro-Blading Workshop\n\nThursday 29/04/21 & Friday 30/04/21 – 9:00am – 5:00pm\nFull Cost:  $3500 + GST \nOnline Cost: $2750 + GST \n\n\n\nAbout the workshop :\n\n\n\n\n\n\n\n\nJoin our masterclass and learn our natural microblading techniques. This training adapts for all levels from beginner to experienced\, covering basic through to advanced techniques. \nOur trainer Stella Shenouda is a certified trainer who is internationally trained and works with many high profile clients in the television \, media & medical industry. \nDuring this 2 day intensive workshop she shares with you her mastery and skillset she has obtained internationally. We have created our workshops to suit the Australian market. Our approach is a natural undetected result that suits each individual face shape and bone structure. \nWe believe that everyone can master this skillset with the right training\, dedication and persistence. This masterclass will comprise of 2 consecutive days learning in a professional workspace. \n\n\n\n2 Days intensive learning with Brow Expert Stella Shenouda\nA digital tattoo machine and kit worth $1500\nA comprehensive theory book\,\nA Certificate of Completion at the end of the workshop\nOne month’s support via online correspondence\n\n\n\n To receive your certificate and to be able to work on clients\, you need to complete 6 core levels in a month while practicing on skin simulation mats. \nUpon the successful completion of the 6 modules\, you will be required to demonstrate competency in carrying out the procedure on 2 live models.  \nRead More. \n\n\n  \n\n\nReserve your place early\, to avoid disappointment – our workshops book out fast!\n\nReady to book?\n\n\nTo secure your seat\, please purchase this ticket which is a non-refundable $500 deposit. \nOnce purchased we will be in touch to finalise remaining payment via EFT\, Bank transfer or payment plan.
URL:https://www.bystellaacademy.com.au/event-calendar/2-day-micro-blading-workshop-melbourne-29-4-30-4/
LOCATION:Melbourne
ATTACH;FMTTYPE=image/png:https://www.bystellaacademy.com.au/wp-content/uploads/2020/05/5.png
END:VEVENT
BEGIN:VEVENT
DTSTART;VALUE=DATE:20210225
DTEND;VALUE=DATE:20210227
DTSTAMP:20260422T003445
CREATED:20201202T040312Z
LAST-MODIFIED:20201202T040312Z
UID:7608-1614211200-1614383999@www.bystellaacademy.com.au
SUMMARY:2 DAY MICRO-BLADING WORKSHOP MELBOURNE 25/2-26/2
DESCRIPTION:2 day Micro-Blading Workshop\n\nThursday 25/02/21 & Friday 26/02/21 – 9:00am – 5:00pm\nFull Cost:  $3500 + GST \nOnline Cost: $2750 + GST \n\n\n\nAbout the workshop :\n\n\n\n\n\n\n\n\nJoin our masterclass and learn our natural microblading techniques. This training adapts for all levels from beginner to experienced\, covering basic through to advanced techniques. \nOur trainer Stella Shenouda is a certified trainer who is internationally trained and works with many high profile clients in the television \, media & medical industry. \nDuring this 2 day intensive workshop she shares with you her mastery and skillset she has obtained internationally. We have created our workshops to suit the Australian market. Our approach is a natural undetected result that suits each individual face shape and bone structure. \nWe believe that everyone can master this skillset with the right training\, dedication and persistence. This masterclass will comprise of 2 consecutive days learning in a professional workspace. \n\n\n\n2 Days intensive learning with Brow Expert Stella Shenouda\nA digital tattoo machine and kit worth $1500\nA comprehensive theory book\,\nA Certificate of Completion at the end of the workshop\nOne month’s support via online correspondence\n\n\n\n To receive your certificate and to be able to work on clients\, you need to complete 6 core levels in a month while practicing on skin simulation mats. \nUpon the successful completion of the 6 modules\, you will be required to demonstrate competency in carrying out the procedure on 2 live models.  \nRead More. \n\n\n  \n\n\nReserve your place early\, to avoid disappointment – our workshops book out fast!\n\nReady to book?\n\n\nTo secure your seat\, please purchase this ticket which is a non-refundable $500 deposit. \nOnce purchased we will be in touch to finalise remaining payment via EFT\, Bank transfer or payment plan.
URL:https://www.bystellaacademy.com.au/event-calendar/2-day-micro-blading-workshop-melbourne-25-2-26-2/
LOCATION:Melbourne
ATTACH;FMTTYPE=image/png:https://www.bystellaacademy.com.au/wp-content/uploads/2020/05/5.png
END:VEVENT
BEGIN:VEVENT
DTSTART;VALUE=DATE:20210208
DTEND;VALUE=DATE:20210210
DTSTAMP:20260422T003445
CREATED:20210205T000159Z
LAST-MODIFIED:20210205T000159Z
UID:7764-1612742400-1612915199@www.bystellaacademy.com.au
SUMMARY:2 DAY POWDER EFFECT DAY WORKSHOP SYDNEY 8/2-9/2
DESCRIPTION:2 day Powder Effect (3 TECHNIQUES) Workshop\n\nMonday 08/02/21 & Tuesday 09/02/21 – 9:00am – 5:00pm\nFull Cost: $3\,500 plus GST \nOnline Cost: $2\,750 plus GST \n\n\n\nAbout the workshop :\n\n\n\n\n\n\nJoin our masterclass and learn our 3 powder effect techniques with a digital tattoo machine. \nOur trainer Stella Shenouda is internationally trained and shares with you her mastery and skillset all the way from New York and LA . Stella believes one should never stop learning and continues to adjust content to enable her students to learn the most current techniques on the market. \nWe believe that everyone can master this skillset with the right training\, dedication and persistence. This masterclass will comprise of 2 day learning in a professional workspace. \nThe assessment day will be $500 extra if you’d like to sit with your trainer for a private assessment or free if submitted online. \n\n\nRead More. \n\n\n  \n\n\nReserve your place early\, to avoid disappointment – our workshops book out fast!\n\nReady to book?\n\n\nTo secure your seat\, please purchase this ticket which is a non-refundable $500 deposit. \nOnce purchased we will be in touch to finalise remaining payment via EFT\, Bank transfer or payment plan. \n\nAny no shows will forfeit their ticket. \n\n\nLooking forward to meeting you then!
URL:https://www.bystellaacademy.com.au/event-calendar/2-day-powder-effect-day-workshop-sydney-8-2-9-2/
LOCATION:Sydney\, 110A Nicholson Pde Cronulla\, Cronulla\, NSW\, 2230\, Australia
ATTACH;FMTTYPE=image/png:https://www.bystellaacademy.com.au/wp-content/uploads/2020/05/2.png
END:VEVENT
BEGIN:VEVENT
DTSTART;VALUE=DATE:20210202
DTEND;VALUE=DATE:20210203
DTSTAMP:20260422T003445
CREATED:20210205T004447Z
LAST-MODIFIED:20210205T005452Z
UID:7773-1612224000-1612310399@www.bystellaacademy.com.au
SUMMARY:HYBRID 3 DAY WORKSHOP: SYDNEY 2/2 & 8/2-9/2
DESCRIPTION:Hybrid Workshop\n\nTuesday 02/02/21\, Monday 08/02/21 and Tuesday 09/02/21 – 9:00am – 5:00pm\nFull Cost: $4\,895 plus GST \n  \n\n\n\nAbout the workshop :\n\n\n\nThis masterclass covers our Hybrid cosmetic tattoo procedure . It is a combination effect demonstrating 2 techniques: manual micro-blading  and shading. It’s becoming the most sought after treatment as it offers a more natural effect to powdering but is much fuller  overall. This style is suitable to all skin types. Our workshop price covers a 3 day workshop and 2 kits (microblading and powder kits) and also access to both online modules for 6 weeks).\n\n\nThe assessment day will be $500 extra if you’d like to sit with your trainer for a private assessment or free if submitted online.\n\n\n\n\n\nCourse Prerequisite:\nCompletion of the 2-day Ombre course \n\n\n\nReserve your place early\, to avoid disappointment – our workshops book out fast!\n\nReady to book?\n\n\nTo secure your seat\, please purchase this ticket which is a non-refundable $500 deposit. \nOnce purchased we will be in touch to finalise remaining payment via EFT\, Bank transfer or payment plan. \n\nAny no shows will forfeit their ticket. \n\n\nLooking forward to meeting you then!
URL:https://www.bystellaacademy.com.au/event-calendar/hybrid-3-day-workshop-sydney-2-2-8-2-9-2/
LOCATION:Sydney\, 110A Nicholson Pde Cronulla\, Cronulla\, NSW\, 2230\, Australia
END:VEVENT
END:VCALENDAR